BEGIN:VCALENDAR
VERSION:2.0
PRODID:-//Garden Heights Baptist Church - ECPv//NONSGML v1.0//EN
CALSCALE:GREGORIAN
METHOD:PUBLISH
X-WR-CALNAME:Garden Heights Baptist Church
X-ORIGINAL-URL:https://gardenheights.org
X-WR-CALDESC:Events for Garden Heights Baptist Church
BEGIN:VTIMEZONE
TZID:America/New_York
BEGIN:DAYLIGHT
TZOFFSETFROM:-0500
TZOFFSETTO:-0400
TZNAME:EDT
DTSTART:20260308T070000
END:DAYLIGHT
BEGIN:STANDARD
TZOFFSETFROM:-0400
TZOFFSETTO:-0500
TZNAME:EST
DTSTART:20261101T060000
END:STANDARD
END:VTIMEZONE
BEGIN:VEVENT
DTSTART;VALUE=DATE:20260519
DTEND;VALUE=DATE:20260520
DTSTAMP:20260424T045758
CREATED:20260418T235449Z
LAST-MODIFIED:20260418T235449Z
UID:3560-1779148800-1779235199@gardenheights.org
SUMMARY:Election Day Ministry
DESCRIPTION:
URL:https://gardenheights.org/event/election-day-ministry-3/
LOCATION:Garden Heights Baptist Church\, 4224 McClelland Ave.\, Erie\, PA\, 16510\, United States
CATEGORIES:Outreach
ATTACH;FMTTYPE=image/jpeg:https://gardenheights.org/wp-content/uploads/2026/04/General-Election-Day-Facebook-Post-6.jpg
END:VEVENT
END:VCALENDAR